BEGIN:VCALENDAR
VERSION:2.0
PRODID:icalendar-ruby
CALSCALE:GREGORIAN
METHOD:PUBLISH
BEGIN:VEVENT
DTSTAMP:20260423T013338Z
UID:37-1044788@centraliabbc.org
DTSTART:20260525T140000Z
DTEND:20260525T170000Z
CLASS:PUBLIC
CREATED:20260422T154554
DESCRIPTION:
LAST-MODIFIED:20260422T154554
LOCATION:
SUMMARY:Peddlin' with the Pastor
URL;VALUE=URI:https://centraliabbc.org/events/peddlin-with-the-pastor/2026-
 05-25
ATTACH;FILENAME=PeddlingWithThePastor.jpg;FMTTYPE=image/jpeg:https://dq5pwp
 g1q8ru0.cloudfront.net/2026/04/22/22/45/53/77ead1f1-ab11-4fe8-9d66-15b6444
 1c5a9/PeddlingWithThePastor.jpg
END:VEVENT
END:VCALENDAR
